BEGIN:VCALENDAR
VERSION:2.0
PRODID:-//Plone.org//NONSGML plone.app.event//EN
X-WR-TIMEZONE:America/Sao_Paulo
BEGIN:VEVENT
SUMMARY:Colação de grau  oficial em [ Auditorio Nobre do CAD 1]
DTSTART;TZID=America/Sao_Paulo;VALUE=DATE-TIME:20240819T110000
DTEND;TZID=America/Sao_Paulo;VALUE=DATE-TIME:20240819T170000
DTSTAMP;VALUE=DATE-TIME:20260419T222752Z
UID:6b050f25df35409a8269460220a12d93@150.164.76.86:8080
CREATED;VALUE=DATE-TIME:20240320T141746Z
DESCRIPTION:Colação de grau  oficial
LAST-MODIFIED;VALUE=DATE-TIME:20240809T173243Z
URL:http://150.164.76.86:8080/cac/agenda/13379612306569010098
END:VEVENT
BEGIN:VTIMEZONE
TZID:America/Sao_Paulo
X-LIC-LOCATION:America/Sao_Paulo
BEGIN:STANDARD
DTSTART;VALUE=DATE-TIME:20240217T230000
TZNAME:BRT
TZOFFSETFROM:-0200
TZOFFSETTO:-0300
END:STANDARD
END:VTIMEZONE
END:VCALENDAR
