BEGIN:VCALENDAR
VERSION:2.0
PRODID:-//Plone.org//NONSGML plone.app.event//EN
X-WR-TIMEZONE:America/Sao_Paulo
BEGIN:VEVENT
SUMMARY:English Conversation Club: Karaoke Night em [ Arena da praça de s
 erviços]
DTSTART;TZID=America/Sao_Paulo;VALUE=DATE-TIME:20240503T180000
DTEND;TZID=America/Sao_Paulo;VALUE=DATE-TIME:20240503T190000
DTSTAMP;VALUE=DATE-TIME:20260420T014424Z
UID:5f2763555e7c4fe0b845298765cd55c1@150.164.76.86:8080
CREATED;VALUE=DATE-TIME:20240429T123130Z
DESCRIPTION:O “English Conversation Club” é uma iniciativa que estimu
 la os estudantes a aprimorarem suas habilidades de conversação em língu
 a inglesa\, participando de encontros sobre diversos temas. Neste encontro
 \, os alunos irão praticar o idioma por meio de músicas.\n\nEQUIPAMENTOS
 : Precisaremos de uma caixa de som e de dois microfones.
LAST-MODIFIED;VALUE=DATE-TIME:20240429T141516Z
URL:http://150.164.76.86:8080/cac/agenda/13363439436949681073
END:VEVENT
BEGIN:VTIMEZONE
TZID:America/Sao_Paulo
X-LIC-LOCATION:America/Sao_Paulo
BEGIN:STANDARD
DTSTART;VALUE=DATE-TIME:20240217T230000
TZNAME:BRT
TZOFFSETFROM:-0200
TZOFFSETTO:-0300
END:STANDARD
END:VTIMEZONE
END:VCALENDAR
