BEGIN:VCALENDAR
VERSION:2.0
PRODID:-//Plone.org//NONSGML plone.app.event//EN
X-WR-TIMEZONE:America/Sao_Paulo
BEGIN:VEVENT
SUMMARY:Reserva de espaço físico - Concursos em [ Auditorio A102 do Cad 
 2 Auditorio A104 do Cad 2]
DTSTART;TZID=America/Sao_Paulo;VALUE=DATE-TIME:20221022T060000
DTEND;TZID=America/Sao_Paulo;VALUE=DATE-TIME:20221023T210000
DTSTAMP;VALUE=DATE-TIME:20260421T235250Z
UID:4dcf8f6038744878b6286bccbc3e5261@150.164.76.86:8080
CREATED;VALUE=DATE-TIME:20220902T133524Z
DESCRIPTION:<p>Solicitação recebida por e-mail dia 01/09/2022 -reserva p
 ara aplicação de concurso</p>
LAST-MODIFIED;VALUE=DATE-TIME:20220902T140121Z
URL:http://150.164.76.86:8080/cac/agenda/13356985353170541900
END:VEVENT
BEGIN:VTIMEZONE
TZID:America/Sao_Paulo
X-LIC-LOCATION:America/Sao_Paulo
BEGIN:DAYLIGHT
DTSTART;VALUE=DATE-TIME:20221016T010000
TZNAME:BRST
TZOFFSETFROM:-0300
TZOFFSETTO:-0200
END:DAYLIGHT
END:VTIMEZONE
END:VCALENDAR
