BEGIN:VCALENDAR
VERSION:2.0
PRODID:-//Plone.org//NONSGML plone.app.event//EN
X-WR-TIMEZONE:America/Sao_Paulo
BEGIN:VEVENT
SUMMARY:Ciencia e Liberdade - Comemoração 200 anos Idependencia do Brasi
 l em [ Outros espacos]
DTSTART;TZID=America/Sao_Paulo;VALUE=DATE-TIME:20220905T080000
DTEND;TZID=America/Sao_Paulo;VALUE=DATE-TIME:20220905T110000
DTSTAMP;VALUE=DATE-TIME:20260421T235157Z
UID:66d17fdad5a34db49566290ed2b35f24@150.164.76.86:8080
CREATED;VALUE=DATE-TIME:20220830T202043Z
DESCRIPTION:<p><span>Ciencia e Liberdade - Comemoração 200 anos Idepende
 ncia do Brasil</span></p>
LAST-MODIFIED;VALUE=DATE-TIME:20220830T204820Z
URL:http://150.164.76.86:8080/cac/agenda/1334795838591796479
END:VEVENT
BEGIN:VTIMEZONE
TZID:America/Sao_Paulo
X-LIC-LOCATION:America/Sao_Paulo
BEGIN:STANDARD
DTSTART;VALUE=DATE-TIME:20220219T230000
TZNAME:BRT
TZOFFSETFROM:-0200
TZOFFSETTO:-0300
END:STANDARD
END:VTIMEZONE
END:VCALENDAR
