BEGIN:VCALENDAR
VERSION:2.0
PRODID:-//Plone.org//NONSGML plone.app.event//EN
X-WR-TIMEZONE:America/Sao_Paulo
BEGIN:VEVENT
SUMMARY:Fórum Técnico Minas Gerais pela Ciência em [ Auditório B107 do
  CAD3]
DTSTART;TZID=America/Sao_Paulo;VALUE=DATE-TIME:20240909T080000
DTEND;TZID=America/Sao_Paulo;VALUE=DATE-TIME:20240909T180000
DTSTAMP;VALUE=DATE-TIME:20260419T205550Z
UID:45d7446760be4afba6fc0f37bf2eec1d@150.164.76.86:8080
CREATED;VALUE=DATE-TIME:20240812T143918Z
DESCRIPTION:Duas palestras seguidas de discussão de documento técnico.\n
 Microfone e projetor.
LAST-MODIFIED;VALUE=DATE-TIME:20240812T151406Z
URL:http://150.164.76.86:8080/cac/agenda/13343872668242276209
END:VEVENT
BEGIN:VTIMEZONE
TZID:America/Sao_Paulo
X-LIC-LOCATION:America/Sao_Paulo
BEGIN:STANDARD
DTSTART;VALUE=DATE-TIME:20240217T230000
TZNAME:BRT
TZOFFSETFROM:-0200
TZOFFSETTO:-0300
END:STANDARD
END:VTIMEZONE
END:VCALENDAR
