BEGIN:VCALENDAR
VERSION:2.0
PRODID:-//Plone.org//NONSGML plone.app.event//EN
X-WR-TIMEZONE:America/Sao_Paulo
BEGIN:VEVENT
SUMMARY:Jornada de empreendedorismo em Nanotecnologia Merck UFMG em [ Audi
 tório B107 do CAD3]
DTSTART;TZID=America/Sao_Paulo;VALUE=DATE-TIME:20240624T080000
DTEND;TZID=America/Sao_Paulo;VALUE=DATE-TIME:20240626T170000
DTSTAMP;VALUE=DATE-TIME:20260420T012708Z
UID:12662e162e534f4e8ace5431056c3dd1@150.164.76.86:8080
CREATED;VALUE=DATE-TIME:20240506T182857Z
DESCRIPTION:Jornada de Empreendedorismo com discentes e docentes na área 
 de nano...\n\nevento híbrido com transmissão via plataforma teams - Arle
 y já nos passou as coordenadas
LAST-MODIFIED;VALUE=DATE-TIME:20240507T134620Z
URL:http://150.164.76.86:8080/cac/agenda/13332541127206093484
END:VEVENT
BEGIN:VTIMEZONE
TZID:America/Sao_Paulo
X-LIC-LOCATION:America/Sao_Paulo
BEGIN:STANDARD
DTSTART;VALUE=DATE-TIME:20240217T230000
TZNAME:BRT
TZOFFSETFROM:-0200
TZOFFSETTO:-0300
END:STANDARD
END:VTIMEZONE
END:VCALENDAR
