BEGIN:VCALENDAR
VERSION:2.0
PRODID:-//Plone.org//NONSGML plone.app.event//EN
X-WR-TIMEZONE:America/Sao_Paulo
BEGIN:VEVENT
SUMMARY:Solenidade de Posse diretoria FAE em [ Outros espacos]
DTSTART;TZID=America/Sao_Paulo;VALUE=DATE-TIME:20220504T180000
DTEND;TZID=America/Sao_Paulo;VALUE=DATE-TIME:20220504T200000
DTSTAMP;VALUE=DATE-TIME:20260422T063544Z
UID:09ecb490a39c49cd90c62db73d23b616@150.164.76.86:8080
CREATED;VALUE=DATE-TIME:20220419T200555Z
DESCRIPTION:<p>Posse diretoria\, local a definir</p>
LAST-MODIFIED;VALUE=DATE-TIME:20220419T201443Z
URL:http://150.164.76.86:8080/cac/agenda/13299051311224434515
END:VEVENT
BEGIN:VTIMEZONE
TZID:America/Sao_Paulo
X-LIC-LOCATION:America/Sao_Paulo
BEGIN:STANDARD
DTSTART;VALUE=DATE-TIME:20220219T230000
TZNAME:BRT
TZOFFSETFROM:-0200
TZOFFSETTO:-0300
END:STANDARD
END:VTIMEZONE
END:VCALENDAR
