BEGIN:VCALENDAR
VERSION:2.0
PRODID:-//Plone.org//NONSGML plone.app.event//EN
X-WR-TIMEZONE:America/Sao_Paulo
BEGIN:VEVENT
SUMMARY:Rede Mineira de Logística Reversa - Edição Belo Horizonte em [ 
 Outros espacos]
DTSTART;TZID=America/Sao_Paulo;VALUE=DATE-TIME:20240418T130000
DTEND;TZID=America/Sao_Paulo;VALUE=DATE-TIME:20240418T180000
DTSTAMP;VALUE=DATE-TIME:20260420T044811Z
UID:21e3f8a44c584dc5b642d05f1a37e553@150.164.76.86:8080
CREATED;VALUE=DATE-TIME:20240325T180856Z
DESCRIPTION:<p>A programação do evento inclui 4 apresentações: a prime
 ira apresentação será realizada pela Universidade Federal de Viçosa ap
 resentando o Projeto da Rede Mineira de Logística Reversa e os resultados
  já obtidos. A segunda apresentação consistirá sobre os cenário atual
  da logística reversa no Estado de Minas a ser realizada pela Superintend
 ência de Resíduos Sólidos da Secretaria Estadual de Meio Ambiente de Mi
 nas Gerais. A terceira apresentação consistirá nos desafios e aplicaç
 ões da logística reversa no âmbito das contratações públicas sustent
 áveis em Instituições de Ensino Superior a ser realizada pela Advocacia
  Geral da União. A quarta apresentação será realizada pelo DGA/UFMG at
 ravés da Divisão de Resíduos e pela Diretoria de Patrimônio da Pró-Re
 itoria de Administração. Ao final das quatro apresentações será abert
 o o debate entre os participantes com interação pelo chat e perguntas fe
 itas pelos moderadores. Previsão de 20 minutos para cada apresentação c
 om 5 minutos de tolerância e posterior debate. Os serviços necessários 
 solicitados à CAC inclui o suporte para a adequada realização da transm
 issão\, com auxiliar técnico disponível e a disponibilização do canal
  da CAC no You Tube para transmissão e repositório do evento.</p>
LAST-MODIFIED;VALUE=DATE-TIME:20240416T191634Z
URL:http://150.164.76.86:8080/cac/agenda/13282510700333982560
END:VEVENT
BEGIN:VTIMEZONE
TZID:America/Sao_Paulo
X-LIC-LOCATION:America/Sao_Paulo
BEGIN:STANDARD
DTSTART;VALUE=DATE-TIME:20240217T230000
TZNAME:BRT
TZOFFSETFROM:-0200
TZOFFSETTO:-0300
END:STANDARD
END:VTIMEZONE
END:VCALENDAR
