BEGIN:VCALENDAR
VERSION:2.0
PRODID:-//Plone.org//NONSGML plone.app.event//EN
X-WR-TIMEZONE:America/Sao_Paulo
BEGIN:VEVENT
SUMMARY:Seminários LSE/UFMG PPGCOM em [ Auditorio A102 do Cad 2]
DTSTART;TZID=America/Sao_Paulo;VALUE=DATE-TIME:20220104T140000
DTEND;TZID=America/Sao_Paulo;VALUE=DATE-TIME:20220112T210000
DTSTAMP;VALUE=DATE-TIME:20260422T125035Z
UID:777c08679063466d9e96e673573c1814@150.164.76.86:8080
CREATED;VALUE=DATE-TIME:20211014T223827Z
DESCRIPTION:Equipamentos: computador\, projetor\, infraestrutura para trad
 ução simultânea\nServiços: apoio técnico para imagem e som.\n\n\n\nPr
 ogramação\n\n. Abertura: 04/01/2022 das 18h às 21h\nConferência. "Digi
 tal city from the bottom-up: The migrant urban subaltern of networked citi
 es"\, de Myria Georgiou\,\n\n. Os seminários de Myria Georgiou e Bart Cam
 maerts acontecerão presencialmente entre os dias 4 e 12 de janeiro de 202
 2 (exceto sábado e domingo)\, no período da tarde (14h-17h). \n\n. Fecha
 mento\n12/01/2022 das 18h às 21h\nConferência. "The normalisation of neo
 -fascism and traditional and social media’s democratic role to combat th
 is"\, de Bart Cammaerts.
LAST-MODIFIED;VALUE=DATE-TIME:20211018T120049Z
URL:http://150.164.76.86:8080/cac/agenda/13240408510129940896
END:VEVENT
BEGIN:VTIMEZONE
TZID:America/Sao_Paulo
X-LIC-LOCATION:America/Sao_Paulo
BEGIN:DAYLIGHT
DTSTART;VALUE=DATE-TIME:20211017T010000
TZNAME:BRST
TZOFFSETFROM:-0300
TZOFFSETTO:-0200
END:DAYLIGHT
END:VTIMEZONE
END:VCALENDAR
