BEGIN:VCALENDAR
VERSION:2.0
PRODID:-//Plone.org//NONSGML plone.app.event//EN
X-WR-TIMEZONE:America/Sao_Paulo
BEGIN:VEVENT
SUMMARY:56º FESTIVAL DE INVERNO em [ Outros espacos]
DTSTART;TZID=America/Sao_Paulo;VALUE=DATE-TIME:20240718T060000
DTEND;TZID=America/Sao_Paulo;VALUE=DATE-TIME:20240726T210000
DTSTAMP;VALUE=DATE-TIME:20260419T234754Z
UID:38733145d3ba4bfabf62788371b7ba88@150.164.76.86:8080
CREATED;VALUE=DATE-TIME:20231106T145812Z
DESCRIPTION:<p>56º FESTIVAL DE INVERNO - EVENTO DO CALENDÁRIO ACADÊMICO
 </p>
LAST-MODIFIED;VALUE=DATE-TIME:20231106T145826Z
URL:http://150.164.76.86:8080/cac/agenda/13235361457099457135
END:VEVENT
BEGIN:VTIMEZONE
TZID:America/Sao_Paulo
X-LIC-LOCATION:America/Sao_Paulo
BEGIN:STANDARD
DTSTART;VALUE=DATE-TIME:20240217T230000
TZNAME:BRT
TZOFFSETFROM:-0200
TZOFFSETTO:-0300
END:STANDARD
END:VTIMEZONE
END:VCALENDAR
