BEGIN:VCALENDAR
VERSION:2.0
PRODID:-//Plone.org//NONSGML plone.app.event//EN
X-WR-TIMEZONE:America/Sao_Paulo
BEGIN:VEVENT
SUMMARY:VIII SIBC Simpósio de Integração dos Programas de Pós-Graduaç
 ão em Biologia Celular da UFU\, UFMG\, UFV e UFSJ em [ Auditório B101/10
 2 do CAD 3 Outros espacos]
DTSTART;TZID=America/Sao_Paulo;VALUE=DATE-TIME:20231016T070000
DTEND;TZID=America/Sao_Paulo;VALUE=DATE-TIME:20231020T200000
DTSTAMP;VALUE=DATE-TIME:20260421T020019Z
UID:9fc87c124a104da685b3aa22102fde7f@150.164.76.86:8080
CREATED;VALUE=DATE-TIME:20221117T190347Z
DESCRIPTION:<p>Projetor\, boa conexão de internet\, assentos para receber
  aproximadamente 100 pessoas. PRÉ-SIMPÓSIO 1º DIA - ABERTURA - AVANÇOS
  EM BIOLOGIA CELULAR (21/09/2022) 2º DIA - AVANÇOS EM INFLAMAÇÃO (22/0
 9/2022) PÓS-GRADUAÇÃO EM FOCO Sessão pôster AVANÇOS EM BIOLOGIA CELU
 LAR *Programação Sujeita a mudanças*. OBS: agendamento confirmado sem a
 tendimento técnico audiovisual da CAC.</p>
LAST-MODIFIED;VALUE=DATE-TIME:20231002T114816Z
URL:http://150.164.76.86:8080/cac/agenda/13221631674706225866
END:VEVENT
BEGIN:VTIMEZONE
TZID:America/Sao_Paulo
X-LIC-LOCATION:America/Sao_Paulo
BEGIN:DAYLIGHT
DTSTART;VALUE=DATE-TIME:20231015T010000
TZNAME:BRST
TZOFFSETFROM:-0300
TZOFFSETTO:-0200
END:DAYLIGHT
END:VTIMEZONE
END:VCALENDAR
