BEGIN:VCALENDAR
VERSION:2.0
PRODID:-//Plone.org//NONSGML plone.app.event//EN
X-WR-TIMEZONE:America/Sao_Paulo
BEGIN:VEVENT
SUMMARY:Atendimento funionários Pluri em [ Auditorio A102 do Cad 2]
DTSTART;TZID=America/Sao_Paulo;VALUE=DATE-TIME:20231206T080000
DTEND;TZID=America/Sao_Paulo;VALUE=DATE-TIME:20231206T210000
DTSTAMP;VALUE=DATE-TIME:20260420T114855Z
UID:f88206523abf427b93f40926e59a9b15@150.164.76.86:8080
CREATED;VALUE=DATE-TIME:20231205T174044Z
DESCRIPTION:<p>Atendimento aos funcionários contratados. Auditório do DL
 O está comprometido.</p>
LAST-MODIFIED;VALUE=DATE-TIME:20231205T174101Z
URL:http://150.164.76.86:8080/cac/agenda/13218740091529197960
END:VEVENT
BEGIN:VTIMEZONE
TZID:America/Sao_Paulo
X-LIC-LOCATION:America/Sao_Paulo
BEGIN:DAYLIGHT
DTSTART;VALUE=DATE-TIME:20231015T010000
TZNAME:BRST
TZOFFSETFROM:-0300
TZOFFSETTO:-0200
END:DAYLIGHT
END:VTIMEZONE
END:VCALENDAR
