BEGIN:VCALENDAR
VERSION:2.0
PRODID:-//Plone.org//NONSGML plone.app.event//EN
X-WR-TIMEZONE:America/Sao_Paulo
BEGIN:VEVENT
SUMMARY:Comemoração Dia do Servidor - Palestra - ATENS-UFMG em [ Auditor
 io A102 do Cad 2]
DTSTART;TZID=America/Sao_Paulo;VALUE=DATE-TIME:20241029T140000
DTEND;TZID=America/Sao_Paulo;VALUE=DATE-TIME:20241029T170000
DTSTAMP;VALUE=DATE-TIME:20260419T192105Z
UID:4d008de588d9460ba5800ba00d204a3e@150.164.76.86:8080
CREATED;VALUE=DATE-TIME:20240830T144817Z
DESCRIPTION:Palestra a ser realizada pela ATENS-UFMG\, associação da qua
 l sou presidente\, para comemorar o Dia do Servidor.\nGostariamos de utili
 zar o espaço da Cantina para servir um lanche ao final do evento.
LAST-MODIFIED;VALUE=DATE-TIME:20240830T154059Z
URL:http://150.164.76.86:8080/cac/agenda/13198889057889676796
END:VEVENT
BEGIN:VTIMEZONE
TZID:America/Sao_Paulo
X-LIC-LOCATION:America/Sao_Paulo
BEGIN:DAYLIGHT
DTSTART;VALUE=DATE-TIME:20241020T010000
TZNAME:BRST
TZOFFSETFROM:-0300
TZOFFSETTO:-0200
END:DAYLIGHT
END:VTIMEZONE
END:VCALENDAR
