BEGIN:VCALENDAR
VERSION:2.0
PRODID:-//Plone.org//NONSGML plone.app.event//EN
X-WR-TIMEZONE:America/Sao_Paulo
BEGIN:VEVENT
SUMMARY:Recepção de calouros UFMG 1º/2022 em [ Saguao da Reitoria Audit
 orio da Reitoria Gramado da Reitoria Auditorio Nobre do CAD 1 Auditorio 1A
  do CAD 1 Auditorio 2A do CAD 1 Auditorio A102 do Cad 2 Auditorio A104 do 
 Cad 2 Outros espacos Auditório B302 do CAD 3 Auditório B101/102 do CAD 3
  Auditório B301 do CAD 3]
DTSTART;TZID=America/Sao_Paulo;VALUE=DATE-TIME:20220328T070000
DTEND;TZID=America/Sao_Paulo;VALUE=DATE-TIME:20220329T080000
DTSTAMP;VALUE=DATE-TIME:20260422T110538Z
UID:2a0bf11621f643d2a6d585f6a78608f7@150.164.76.86:8080
CREATED;VALUE=DATE-TIME:20220128T143903Z
DESCRIPTION:<p>Recepção de calouros dos <span>cursos de Graduação </s
 pan>1º semestre letivo 2022.</p>\n<p><a href="https://ufmg.br/storage/8/a
 /6/8/8a68f0db6f7292ab2a169bd711a0c9f1_1640032917367_70537452.pdf">8a68f0db
 6f7292ab2a169bd711a0c9f1_1640032917367_70537452.pdf (ufmg.br)</a></p>
LAST-MODIFIED;VALUE=DATE-TIME:20230111T201033Z
URL:http://150.164.76.86:8080/cac/agenda/13187638736546349237
END:VEVENT
BEGIN:VTIMEZONE
TZID:America/Sao_Paulo
X-LIC-LOCATION:America/Sao_Paulo
BEGIN:STANDARD
DTSTART;VALUE=DATE-TIME:20220219T230000
TZNAME:BRT
TZOFFSETFROM:-0200
TZOFFSETTO:-0300
END:STANDARD
END:VTIMEZONE
END:VCALENDAR
