BEGIN:VCALENDAR
VERSION:2.0
PRODID:-//Plone.org//NONSGML plone.app.event//EN
X-WR-TIMEZONE:America/Sao_Paulo
BEGIN:VEVENT
SUMMARY:Aplicação 1ª etapa do Revalida 2024 - INEP/MEC em [ Outros espa
 cos Auditorio A102 do Cad 2 Auditorio A104 do Cad 2]
DTSTART;TZID=America/Sao_Paulo;VALUE=DATE-TIME:20240316T060000
DTEND;TZID=America/Sao_Paulo;VALUE=DATE-TIME:20240317T200000
DTSTAMP;VALUE=DATE-TIME:20260420T063407Z
UID:fe0ec6ea243e4a6b8b475a3c23ab776c@150.164.76.86:8080
CREATED;VALUE=DATE-TIME:20240201T150308Z
DESCRIPTION:<p>Prezada Cássia Monteiro\, bom dia! Gentileza verificar a d
 isponibilidade do CAD 1 no dia 17 de março de 2024 para aplicação das p
 rovas da 1ª Etapa do Revalida 2024. Informamos que este processo é de re
 sponsabilidade do INEP e que a previsão é de 500 a 1.000 candidatos. Qua
 isquer dúvidas estou à disposição. Cordialmente\,</p>
LAST-MODIFIED;VALUE=DATE-TIME:20240202T132327Z
URL:http://150.164.76.86:8080/cac/agenda/13170584727817473538
END:VEVENT
BEGIN:VTIMEZONE
TZID:America/Sao_Paulo
X-LIC-LOCATION:America/Sao_Paulo
BEGIN:STANDARD
DTSTART;VALUE=DATE-TIME:20240217T230000
TZNAME:BRT
TZOFFSETFROM:-0200
TZOFFSETTO:-0300
END:STANDARD
END:VTIMEZONE
END:VCALENDAR
