BEGIN:VCALENDAR
VERSION:2.0
PRODID:-//Plone.org//NONSGML plone.app.event//EN
X-WR-TIMEZONE:America/Sao_Paulo
BEGIN:VEVENT
SUMMARY:Conferência de Migração de Minas Gerais em [ Auditorio Nobre do
  CAD 1]
DTSTART;TZID=America/Sao_Paulo;VALUE=DATE-TIME:20240426T080000
DTEND;TZID=America/Sao_Paulo;VALUE=DATE-TIME:20240426T180000
DTSTAMP;VALUE=DATE-TIME:20260420T044749Z
UID:db246c478a8a4d098c4a3ab842a5ada0@150.164.76.86:8080
CREATED;VALUE=DATE-TIME:20240308T192425Z
DESCRIPTION:O evento ainda está sendo desenhado\, mas em breve teremos o 
 briefing.
LAST-MODIFIED;VALUE=DATE-TIME:20240321T191149Z
URL:http://150.164.76.86:8080/cac/agenda/13163082646167839623
END:VEVENT
BEGIN:VTIMEZONE
TZID:America/Sao_Paulo
X-LIC-LOCATION:America/Sao_Paulo
BEGIN:STANDARD
DTSTART;VALUE=DATE-TIME:20240217T230000
TZNAME:BRT
TZOFFSETFROM:-0200
TZOFFSETTO:-0300
END:STANDARD
END:VTIMEZONE
END:VCALENDAR
