BEGIN:VCALENDAR
VERSION:2.0
PRODID:-//Plone.org//NONSGML plone.app.event//EN
X-WR-TIMEZONE:America/Sao_Paulo
BEGIN:VEVENT
SUMMARY:Workshop do Curso de Bioinformática em [ Auditório B302 do CAD 3
 ]
DTSTART;TZID=America/Sao_Paulo;VALUE=DATE-TIME:20200629T091700
DTEND;TZID=America/Sao_Paulo;VALUE=DATE-TIME:20200630T091700
DTSTAMP;VALUE=DATE-TIME:20260424T212741Z
UID:ed86031b3a064dbe873ddd6778bfcf45@150.164.76.86:8080
CREATED;VALUE=DATE-TIME:20200114T124837Z
DESCRIPTION:A utilização da multimídia do local será o suficiente para
  a realização deste evento.
LAST-MODIFIED;VALUE=DATE-TIME:20200114T173517Z
URL:http://150.164.76.86:8080/cac/agenda/13156011793999004142
END:VEVENT
BEGIN:VTIMEZONE
TZID:America/Sao_Paulo
X-LIC-LOCATION:America/Sao_Paulo
BEGIN:STANDARD
DTSTART;VALUE=DATE-TIME:20200215T230000
TZNAME:BRT
TZOFFSETFROM:-0200
TZOFFSETTO:-0300
END:STANDARD
END:VTIMEZONE
END:VCALENDAR
