BEGIN:VCALENDAR
VERSION:2.0
PRODID:-//Plone.org//NONSGML plone.app.event//EN
X-WR-TIMEZONE:America/Sao_Paulo
BEGIN:VEVENT
SUMMARY:Por uma cultura da paz: combate à violência na educação e à d
 esinformação em [ Outros espacos]
DTSTART;TZID=America/Sao_Paulo;VALUE=DATE-TIME:20230529T100000
DTEND;TZID=America/Sao_Paulo;VALUE=DATE-TIME:20230529T110000
DTSTAMP;VALUE=DATE-TIME:20260421T133252Z
UID:8d6eeecb9c714d2ba8bbb03e08cd6363@150.164.76.86:8080
CREATED;VALUE=DATE-TIME:20230424T171045Z
DESCRIPTION:<p>O quê? Por que? Em decorrência dos ataques terroristas à
 s escolas de ensino básico e às constantes ameaças às universidades\, 
 a UFMG abordará a temática em evento intitulado: “Por uma cultura da p
 az: combate à violência na educação e à desinformação”. Quando? 2
 9 de maio de 2023\, segunda-feira\, às 14h. Onde? Na Sala de Sessões com
  transmissão para o Canal da UFMG. Quem? Abertura da reitora\, Sandra Reg
 ina Goulart Almeida\, com participação de Valéria Oliveira\, do Centro 
 de Estudos de Criminalidade e Segurança Pública (Crisp)\, Fernando Jayme
 \, professor da Faculdade de Direito\, e Geane Alzamora\, coordenadora do 
 Programa UFMG de Formação Cidadã.</p>
LAST-MODIFIED;VALUE=DATE-TIME:20230516T140334Z
URL:http://150.164.76.86:8080/cac/agenda/13125068537899546786
END:VEVENT
BEGIN:VTIMEZONE
TZID:America/Sao_Paulo
X-LIC-LOCATION:America/Sao_Paulo
BEGIN:STANDARD
DTSTART;VALUE=DATE-TIME:20230225T230000
TZNAME:BRT
TZOFFSETFROM:-0200
TZOFFSETTO:-0300
END:STANDARD
END:VTIMEZONE
END:VCALENDAR
