BEGIN:VCALENDAR
VERSION:2.0
PRODID:-//Plone.org//NONSGML plone.app.event//EN
X-WR-TIMEZONE:America/Sao_Paulo
BEGIN:VEVENT
SUMMARY:Apresentação da Comissão para uso de Ferramentas de IA nas ativ
 idades acadêmicas na UFMG em [ Outros espacos]
DTSTART;TZID=America/Sao_Paulo;VALUE=DATE-TIME:20240503T093000
DTEND;TZID=America/Sao_Paulo;VALUE=DATE-TIME:20240503T120000
DTSTAMP;VALUE=DATE-TIME:20260420T014838Z
UID:b58fd02ea6e2406dbb89ebea9f33b1ac@150.164.76.86:8080
CREATED;VALUE=DATE-TIME:20240417T175426Z
DESCRIPTION:<p><span style="text-align: left\; text-decoration-thickness: 
 initial\; text-decoration-style: initial\; text-decoration-color: initial\
 ; float: none\; ">Apresentação da Comissão para uso de Ferramentas de I
 A nas atividades acadêmicas na UFMG</span></p>
LAST-MODIFIED;VALUE=DATE-TIME:20240417T175902Z
URL:http://150.164.76.86:8080/cac/agenda/13116958589412397333
END:VEVENT
BEGIN:VTIMEZONE
TZID:America/Sao_Paulo
X-LIC-LOCATION:America/Sao_Paulo
BEGIN:STANDARD
DTSTART;VALUE=DATE-TIME:20240217T230000
TZNAME:BRT
TZOFFSETFROM:-0200
TZOFFSETTO:-0300
END:STANDARD
END:VTIMEZONE
END:VCALENDAR
