BEGIN:VCALENDAR
VERSION:2.0
PRODID:-//Plone.org//NONSGML plone.app.event//EN
X-WR-TIMEZONE:America/Sao_Paulo
BEGIN:VEVENT
SUMMARY:Recepção de caloures - Roda de conversa em [ Entorno da Praca de
  Servicos]
DTSTART;TZID=America/Sao_Paulo;VALUE=DATE-TIME:20250310T163000
DTEND;TZID=America/Sao_Paulo;VALUE=DATE-TIME:20250310T173000
DTSTAMP;VALUE=DATE-TIME:20260419T120329Z
UID:8a2ebb2137df49009a8b8140b4edcff7@150.164.76.86:8080
CREATED;VALUE=DATE-TIME:20250306T143940Z
DESCRIPTION:A coletiva cintura fina com o apoio do DCE \nEstá planejando 
 fazer uma roda de conversa \nPara recepção dos novos alunes trans da uni
 versidade \nNa data do dia 10/03/2025 as 16:30 horas \nNecessitamos do esp
 aço da praça de serviços para que ocorra o evento
LAST-MODIFIED;VALUE=DATE-TIME:20250306T181333Z
URL:http://150.164.76.86:8080/cac/agenda/1311605381719075523
END:VEVENT
BEGIN:VTIMEZONE
TZID:America/Sao_Paulo
X-LIC-LOCATION:America/Sao_Paulo
BEGIN:STANDARD
DTSTART;VALUE=DATE-TIME:20250215T230000
TZNAME:BRT
TZOFFSETFROM:-0200
TZOFFSETTO:-0300
END:STANDARD
END:VTIMEZONE
END:VCALENDAR
