BEGIN:VCALENDAR
VERSION:2.0
PRODID:-//Plone.org//NONSGML plone.app.event//EN
X-WR-TIMEZONE:America/Sao_Paulo
BEGIN:VEVENT
SUMMARY:BHAKTI Yoga e Ayurveda - Centro de Estudos Indianos DRI/UFMG em [ 
 Auditório B106 do CAD3]
DTSTART;TZID=America/Sao_Paulo;VALUE=DATE-TIME:20240717T170000
DTEND;TZID=America/Sao_Paulo;VALUE=DATE-TIME:20240717T200000
DTSTAMP;VALUE=DATE-TIME:20260419T235004Z
UID:a92471fe14fe4dc5882cfc00fcb5d96d@150.164.76.86:8080
CREATED;VALUE=DATE-TIME:20240627T210514Z
DESCRIPTION:Serão necessários 2 microfones e projeção de PPT.
LAST-MODIFIED;VALUE=DATE-TIME:20240628T125057Z
URL:http://150.164.76.86:8080/cac/agenda/13114698889051512514
END:VEVENT
BEGIN:VTIMEZONE
TZID:America/Sao_Paulo
X-LIC-LOCATION:America/Sao_Paulo
BEGIN:STANDARD
DTSTART;VALUE=DATE-TIME:20240217T230000
TZNAME:BRT
TZOFFSETFROM:-0200
TZOFFSETTO:-0300
END:STANDARD
END:VTIMEZONE
END:VCALENDAR
