BEGIN:VCALENDAR
VERSION:2.0
PRODID:-//Plone.org//NONSGML plone.app.event//EN
X-WR-TIMEZONE:America/Sao_Paulo
BEGIN:VEVENT
SUMMARY:Cerimônia de Homenagem ao Ex-Aluno da Faculdade de Ciências Econ
 ômicas\, João Batista Franco Drumond em [ Outros espacos]
DTSTART;TZID=America/Sao_Paulo;VALUE=DATE-TIME:20230901T110000
DTEND;TZID=America/Sao_Paulo;VALUE=DATE-TIME:20230901T120000
DTSTAMP;VALUE=DATE-TIME:20260421T062515Z
UID:f1d6fc2be8e24a42a6743625f47c67df@150.164.76.86:8080
CREATED;VALUE=DATE-TIME:20230811T144115Z
DESCRIPTION:<p align="justify" class="western"><span><span><span><b>Cerim
 ônia de Homenagem ao Ex-Aluno da Faculdade de Ciências Econômicas\, Jo
 ão Batista Franco Drumond</b></span></span></span></p>
LAST-MODIFIED;VALUE=DATE-TIME:20230811T144150Z
URL:http://150.164.76.86:8080/cac/agenda/13106059319093989576
END:VEVENT
BEGIN:VTIMEZONE
TZID:America/Sao_Paulo
X-LIC-LOCATION:America/Sao_Paulo
BEGIN:STANDARD
DTSTART;VALUE=DATE-TIME:20230225T230000
TZNAME:BRT
TZOFFSETFROM:-0200
TZOFFSETTO:-0300
END:STANDARD
END:VTIMEZONE
END:VCALENDAR
