BEGIN:VCALENDAR
VERSION:2.0
PRODID:-//Plone.org//NONSGML plone.app.event//EN
X-WR-TIMEZONE:America/Sao_Paulo
BEGIN:VEVENT
SUMMARY:CAPACIDADE EXCEDIDA em [ Saguao da Reitoria Gramado da Reitoria En
 torno da Praca de Servicos Auditorio Nobre do CAD 1 Auditorio 1A do CAD 1 
 Auditorio 2A do CAD 1 Arena da praça de serviços Auditório B302 do CAD 
 3 Auditório B101/102 do CAD 3 Auditório B301 do CAD 3]
DTSTART;TZID=America/Sao_Paulo;VALUE=DATE-TIME:20200522T130000
DTEND;TZID=America/Sao_Paulo;VALUE=DATE-TIME:20200522T230000
DTSTAMP;VALUE=DATE-TIME:20260425T001030Z
UID:286a46ba591240b389486eb09806ee81@150.164.76.86:8080
CREATED;VALUE=DATE-TIME:20200205T140110Z
DESCRIPTION:<p>.</p>
LAST-MODIFIED;VALUE=DATE-TIME:20230111T201103Z
URL:http://150.164.76.86:8080/cac/agenda/13098644925718206195
END:VEVENT
BEGIN:VTIMEZONE
TZID:America/Sao_Paulo
X-LIC-LOCATION:America/Sao_Paulo
BEGIN:STANDARD
DTSTART;VALUE=DATE-TIME:20200215T230000
TZNAME:BRT
TZOFFSETFROM:-0200
TZOFFSETTO:-0300
END:STANDARD
END:VTIMEZONE
END:VCALENDAR
