BEGIN:VCALENDAR
VERSION:2.0
PRODID:-//Plone.org//NONSGML plone.app.event//EN
X-WR-TIMEZONE:America/Sao_Paulo
BEGIN:VEVENT
SUMMARY:Aula Inaugural lapsol em [ Auditorio A104 do Cad 2]
DTSTART;TZID=America/Sao_Paulo;VALUE=DATE-TIME:20230821T180000
DTEND;TZID=America/Sao_Paulo;VALUE=DATE-TIME:20230821T200000
DTSTAMP;VALUE=DATE-TIME:20260421T091625Z
UID:54d02ea6839d41c5883b5f4fb22cdfaf@150.164.76.86:8080
CREATED;VALUE=DATE-TIME:20230811T135418Z
DESCRIPTION:Aula Inaugural lapsol
LAST-MODIFIED;VALUE=DATE-TIME:20230811T164656Z
URL:http://150.164.76.86:8080/cac/agenda/13088798138592121275
END:VEVENT
BEGIN:VTIMEZONE
TZID:America/Sao_Paulo
X-LIC-LOCATION:America/Sao_Paulo
BEGIN:STANDARD
DTSTART;VALUE=DATE-TIME:20230225T230000
TZNAME:BRT
TZOFFSETFROM:-0200
TZOFFSETTO:-0300
END:STANDARD
END:VTIMEZONE
END:VCALENDAR
