BEGIN:VCALENDAR
VERSION:2.0
PRODID:-//Plone.org//NONSGML plone.app.event//EN
X-WR-TIMEZONE:America/Sao_Paulo
BEGIN:VEVENT
SUMMARY:Feriado Dia da Consciência Negra em [ Auditorio da Reitoria Audit
 orio A102 do Cad 2 Auditorio A104 do Cad 2]
DTSTART;TZID=America/Sao_Paulo;VALUE=DATE-TIME:20241120T080000
DTEND;TZID=America/Sao_Paulo;VALUE=DATE-TIME:20241120T220000
DTSTAMP;VALUE=DATE-TIME:20260419T175624Z
UID:97cca82930d04fc982d91e5768721b07@150.164.76.86:8080
CREATED;VALUE=DATE-TIME:20240612T145750Z
DESCRIPTION:<p>Calendário acadêmico</p>
LAST-MODIFIED;VALUE=DATE-TIME:20240612T150002Z
URL:http://150.164.76.86:8080/cac/agenda/13087368983150536712
END:VEVENT
BEGIN:VTIMEZONE
TZID:America/Sao_Paulo
X-LIC-LOCATION:America/Sao_Paulo
BEGIN:DAYLIGHT
DTSTART;VALUE=DATE-TIME:20241020T010000
TZNAME:BRST
TZOFFSETFROM:-0300
TZOFFSETTO:-0200
END:DAYLIGHT
END:VTIMEZONE
END:VCALENDAR
