BEGIN:VCALENDAR
VERSION:2.0
PRODID:-//Plone.org//NONSGML plone.app.event//EN
X-WR-TIMEZONE:America/Sao_Paulo
BEGIN:VEVENT
SUMMARY:BLOQUEIO PARA REALIZAÇÃO DO RUPTURA NO 3º ANDAR em [ Auditório
  B106 do CAD3 Auditório B107 do CAD3]
DTSTART;TZID=America/Sao_Paulo;VALUE=DATE-TIME:20230831T070000
DTEND;TZID=America/Sao_Paulo;VALUE=DATE-TIME:20230901T210000
DTSTAMP;VALUE=DATE-TIME:20260421T062337Z
UID:a67b6d36fe944c0395176b10d37c73d5@150.164.76.86:8080
CREATED;VALUE=DATE-TIME:20230320T154157Z
DESCRIPTION:<p>Serão remanejadas as disciplinas realizadas no 3º andar p
 ara os auditórios B106 e B107</p>
LAST-MODIFIED;VALUE=DATE-TIME:20230714T145251Z
URL:http://150.164.76.86:8080/cac/agenda/13074363082015418228
END:VEVENT
BEGIN:VTIMEZONE
TZID:America/Sao_Paulo
X-LIC-LOCATION:America/Sao_Paulo
BEGIN:STANDARD
DTSTART;VALUE=DATE-TIME:20230225T230000
TZNAME:BRT
TZOFFSETFROM:-0200
TZOFFSETTO:-0300
END:STANDARD
END:VTIMEZONE
END:VCALENDAR
