BEGIN:VCALENDAR
VERSION:2.0
PRODID:-//Plone.org//NONSGML plone.app.event//EN
X-WR-TIMEZONE:America/Sao_Paulo
BEGIN:VEVENT
SUMMARY:III Simpósio Obesidade e Distúrbios Metabólicos em [ Auditorio 
 Nobre do CAD 1]
DTSTART;TZID=America/Sao_Paulo;VALUE=DATE-TIME:20200528T063000
DTEND;TZID=America/Sao_Paulo;VALUE=DATE-TIME:20200528T193000
DTSTAMP;VALUE=DATE-TIME:20260425T000530Z
UID:77a2e864cf0c4c48b84da6c8ce20c92e@150.164.76.86:8080
CREATED;VALUE=DATE-TIME:20200211T165253Z
DESCRIPTION:A programação ainda não foi definida.
LAST-MODIFIED;VALUE=DATE-TIME:20200213T133834Z
URL:http://150.164.76.86:8080/cac/agenda/13062994530770175172
END:VEVENT
BEGIN:VTIMEZONE
TZID:America/Sao_Paulo
X-LIC-LOCATION:America/Sao_Paulo
BEGIN:STANDARD
DTSTART;VALUE=DATE-TIME:20200215T230000
TZNAME:BRT
TZOFFSETFROM:-0200
TZOFFSETTO:-0300
END:STANDARD
END:VTIMEZONE
END:VCALENDAR
