BEGIN:VCALENDAR
VERSION:2.0
PRODID:-//Plone.org//NONSGML plone.app.event//EN
X-WR-TIMEZONE:America/Sao_Paulo
BEGIN:VEVENT
SUMMARY:O que é ciência? em [ Auditorio A102 do Cad 2]
DTSTART;TZID=America/Sao_Paulo;VALUE=DATE-TIME:20220930T141700
DTEND;TZID=America/Sao_Paulo;VALUE=DATE-TIME:20220930T141700
DTSTAMP;VALUE=DATE-TIME:20260422T012714Z
UID:a1cb0f465a444f5d8a3492b1cf262312@150.164.76.86:8080
CREATED;VALUE=DATE-TIME:20220822T172426Z
DESCRIPTION:<p>O evento será um encontro conjunto do Colegiado de Gradua
 ção do Curso de Nutrição e o Colegiado da Pós-Graduação em Nutriç
 ão e Saúde para discutir com os alunos da graduação e da pós-graduaç
 ão sobre ciência e para comemorar o dia do Nutricionista.</p>
LAST-MODIFIED;VALUE=DATE-TIME:20220921T151657Z
URL:http://150.164.76.86:8080/cac/agenda/13048710194962184234
END:VEVENT
BEGIN:VTIMEZONE
TZID:America/Sao_Paulo
X-LIC-LOCATION:America/Sao_Paulo
BEGIN:STANDARD
DTSTART;VALUE=DATE-TIME:20220219T230000
TZNAME:BRT
TZOFFSETFROM:-0200
TZOFFSETTO:-0300
END:STANDARD
END:VTIMEZONE
END:VCALENDAR
