BEGIN:VCALENDAR
VERSION:2.0
PRODID:-//Plone.org//NONSGML plone.app.event//EN
X-WR-TIMEZONE:America/Sao_Paulo
BEGIN:VEVENT
SUMMARY:Assembleia do APUBH em [ Auditorio da Reitoria]
DTSTART;TZID=America/Sao_Paulo;VALUE=DATE-TIME:20240425T090000
DTEND;TZID=America/Sao_Paulo;VALUE=DATE-TIME:20240425T180000
DTSTAMP;VALUE=DATE-TIME:20260420T044750Z
UID:9c3e6c9f3bba455d95e3c36c43195483@150.164.76.86:8080
CREATED;VALUE=DATE-TIME:20240419T145110Z
DESCRIPTION:<p>Assembleia do APUBH Auditório da Reitoria Horário: 09h à
 s 18h</p>
LAST-MODIFIED;VALUE=DATE-TIME:20240424T190753Z
URL:http://150.164.76.86:8080/cac/agenda/13038655749206415595
END:VEVENT
BEGIN:VTIMEZONE
TZID:America/Sao_Paulo
X-LIC-LOCATION:America/Sao_Paulo
BEGIN:STANDARD
DTSTART;VALUE=DATE-TIME:20240217T230000
TZNAME:BRT
TZOFFSETFROM:-0200
TZOFFSETTO:-0300
END:STANDARD
END:VTIMEZONE
END:VCALENDAR
