BEGIN:VCALENDAR
VERSION:2.0
PRODID:-//Plone.org//NONSGML plone.app.event//EN
X-WR-TIMEZONE:America/Sao_Paulo
BEGIN:VEVENT
SUMMARY:Semana de Orientação ao Estudante Internacional 2023/2 em [ Aren
 a da praça de serviços]
DTSTART;TZID=America/Sao_Paulo;VALUE=DATE-TIME:20230804T080000
DTEND;TZID=America/Sao_Paulo;VALUE=DATE-TIME:20230804T180000
DTSTAMP;VALUE=DATE-TIME:20260421T075134Z
UID:56df65e767704089bbdecd669fcac87d@150.164.76.86:8080
CREATED;VALUE=DATE-TIME:20230110T142911Z
DESCRIPTION:Reserva da arena da praça de serviços para realização da S
 emana de Orientação ao Estudante Internacional 2023/2\, programação co
 m o objetivo de acolher os estudantes internacionais do 2º semestre de 20
 23. Atividades de integração serão realizadas e será necessário uso d
 e caixa de som\, microfones\, fios de extensão e cabos específicos para 
 plugar o computador e celulares na caixa de som.
LAST-MODIFIED;VALUE=DATE-TIME:20230110T143758Z
URL:http://150.164.76.86:8080/cac/agenda/13014008660129589268
END:VEVENT
BEGIN:VTIMEZONE
TZID:America/Sao_Paulo
X-LIC-LOCATION:America/Sao_Paulo
BEGIN:STANDARD
DTSTART;VALUE=DATE-TIME:20230225T230000
TZNAME:BRT
TZOFFSETFROM:-0200
TZOFFSETTO:-0300
END:STANDARD
END:VTIMEZONE
END:VCALENDAR
