BEGIN:VCALENDAR
VERSION:2.0
PRODID:-//Plone.org//NONSGML plone.app.event//EN
X-WR-TIMEZONE:America/Sao_Paulo
BEGIN:VEVENT
SUMMARY:Recepção de Calouros da FAFICH em [ Auditorio A102 do Cad 2]
DTSTART;TZID=America/Sao_Paulo;VALUE=DATE-TIME:20250313T170000
DTEND;TZID=America/Sao_Paulo;VALUE=DATE-TIME:20250313T190000
DTSTAMP;VALUE=DATE-TIME:20260419T120215Z
UID:5053e7a5b1384925a801b6d827e8e555@150.164.76.86:8080
CREATED;VALUE=DATE-TIME:20250206T181430Z
DESCRIPTION:Recepção de calouros\, palestra e apresentações da Direç
 ão.
LAST-MODIFIED;VALUE=DATE-TIME:20250206T182128Z
URL:http://150.164.76.86:8080/cac/agenda/13007046350997664564
END:VEVENT
BEGIN:VTIMEZONE
TZID:America/Sao_Paulo
X-LIC-LOCATION:America/Sao_Paulo
BEGIN:STANDARD
DTSTART;VALUE=DATE-TIME:20250215T230000
TZNAME:BRT
TZOFFSETFROM:-0200
TZOFFSETTO:-0300
END:STANDARD
END:VTIMEZONE
END:VCALENDAR
