BEGIN:VCALENDAR
VERSION:2.0
PRODID:-//Plone.org//NONSGML plone.app.event//EN
X-WR-TIMEZONE:America/Sao_Paulo
BEGIN:VEVENT
SUMMARY:Quarta Doze e trinta - Espetáculo Gols em [ Outros espacos]
DTSTART;TZID=America/Sao_Paulo;VALUE=DATE-TIME:20220523T130000
DTEND;TZID=America/Sao_Paulo;VALUE=DATE-TIME:20220523T190000
DTSTAMP;VALUE=DATE-TIME:20260422T081525Z
UID:6b107e2335a54dfb8a0e4482bb153bb5@150.164.76.86:8080
CREATED;VALUE=DATE-TIME:20220512T173526Z
DESCRIPTION:Montagem para apresentação do Espetáculo Gold - Evento Quar
 ta Doze e Trinta
LAST-MODIFIED;VALUE=DATE-TIME:20220512T173936Z
URL:http://150.164.76.86:8080/cac/agenda/13001525749794435847
END:VEVENT
BEGIN:VTIMEZONE
TZID:America/Sao_Paulo
X-LIC-LOCATION:America/Sao_Paulo
BEGIN:STANDARD
DTSTART;VALUE=DATE-TIME:20220219T230000
TZNAME:BRT
TZOFFSETFROM:-0200
TZOFFSETTO:-0300
END:STANDARD
END:VTIMEZONE
END:VCALENDAR
