BEGIN:VCALENDAR
VERSION:2.0
PRODID:-//Plone.org//NONSGML plone.app.event//EN
X-WR-TIMEZONE:America/Sao_Paulo
BEGIN:VEVENT
SUMMARY:Colação de grau dos cursos da EEFFTO em [ Auditorio Nobre do CAD
  1]
DTSTART;TZID=America/Sao_Paulo;VALUE=DATE-TIME:20230824T080000
DTEND;TZID=America/Sao_Paulo;VALUE=DATE-TIME:20230824T120000
DTSTAMP;VALUE=DATE-TIME:20260421T091236Z
UID:3227c4a3cffe4de3a3ddb840fb4015d2@150.164.76.86:8080
CREATED;VALUE=DATE-TIME:20230525T181553Z
DESCRIPTION:Colação de grau oficial dos cursos da EEFFTO\, com mesa com 
 10 cadeiras\, bandeiras e audiovisual.
LAST-MODIFIED;VALUE=DATE-TIME:20230526T175254Z
URL:http://150.164.76.86:8080/cac/agenda/12998358652876497458
END:VEVENT
BEGIN:VTIMEZONE
TZID:America/Sao_Paulo
X-LIC-LOCATION:America/Sao_Paulo
BEGIN:STANDARD
DTSTART;VALUE=DATE-TIME:20230225T230000
TZNAME:BRT
TZOFFSETFROM:-0200
TZOFFSETTO:-0300
END:STANDARD
END:VTIMEZONE
END:VCALENDAR
