BEGIN:VCALENDAR
VERSION:2.0
PRODID:-//Plone.org//NONSGML plone.app.event//EN
X-WR-TIMEZONE:America/Sao_Paulo
BEGIN:VEVENT
SUMMARY:Workshop Transdisciplinar Sustentabilidade Ambiental: Projeto IBI-
 Furnas-UFMG em [ Auditorio da Reitoria]
DTSTART;TZID=America/Sao_Paulo;VALUE=DATE-TIME:20241118T080000
DTEND;TZID=America/Sao_Paulo;VALUE=DATE-TIME:20241119T190000
DTSTAMP;VALUE=DATE-TIME:20260419T175358Z
UID:0971d7d145514d92a2855f6c851842c4@150.164.76.86:8080
CREATED;VALUE=DATE-TIME:20240528T160606Z
DESCRIPTION:<p>2º Workshop Transdisciplinar do Projeto IBI-Furnas-UFMG: G
 overnança Ambiental e Sustentabilidade de Água e Energia Comissão Organ
 izadora: Prof. Marcos Callisto\, Prof. Ricardo R. C. Solar\, Dra. Juliana 
 S. França\, Biól. Carlos Bernardo M. Alves\, Dra. Gisele Santos\, Biól.
  Bruna Vieira\, MSc. Karoline Madureira\, Biól. Paulo Formagio Objetivo: 
 Apresentar\, discutir e disseminar abordagens transdisciplinares de govern
 ança ambiental dentro do arcabouço ASG (Ambiental\, Social\, Governança
 ) para Avaliação de Integridade Ecológica\, com foco em água e energia
  na bacia de drenagem da Usina Hidrelétrica de Furnas (Eletrobras-Furnas)
 . Programa: 18/11: 8:30h abertura\, 9:00h palestra abertura\, 10:00-10:25h
 : coffee-break\, 10:30-12:30h: palestras\, 13-14h: intervalo almoço\, 14-
 17h: palestras\, 17-18:30h: apresentações banners com resultados de proj
 etos de estudantes\, pós-graduandos e pesquisadores participantes. Palest
 ras previstas: (a) Projeto IBI-FURNAS-UFMG: Abordagem transdisciplinar bot
 tom-up e top-down para Sustentabilidade e Conservação de Biodiversidade 
 e Serviços Ecossistêmicos (Prof. Marcos Callisto\, IEAT UFMG e ICB)\; (b
 ) Boas práticas em gestão e análise de dados ecológicos: criando banco
 s de dados para as futuras gerações (Prof. Ricardo Solar\, ICB)\; (c) Av
 aliação Geográfica da cobertura e uso da terra (Prof. Diego Macedo\, IG
 C)\; (d) Avaliação sócio-econômica nos últimos 40 anos em municípios
  landeiros e não landeiros (Prof. André Golgher\, FACE)\; (e) Modelagem 
 Ambiental Transdisciplinar: erosão\, assoreamento e prioridade de investi
 mentos em recuperação ambiental (Prof. Getúlio Fonseca\, IGC)\; (f) Est
 rutura habitat físicos no reservatório e em riachos na bacia de drenagem
  (a definir)\; (g) Ictiofauna como bioindicadores de qualidade de água no
  reservatório da UHE-FURNAS (Rosalva Sulzbacher\, UFLA)\; (h) Biodiversid
 ade de peixes em riachos de cabeceira (Carlos BM Alves)\; (i) Diversidade 
 Taxonômica e Funcional de bioindicadores bentônicos em riachos (a defini
 r)\; (j) Espécies invasoras que vivem no sedimento do reservatório (Karo
 line Madureira)\; (k) Ciência Cidadã e Monitoramento Participativo (Juli
 ana França)\; (l) Investimento em Pesquisa e Inovação pela Eletrobras-F
 urnas no contexto de Sustentabilidade do Setor Elétrico (Felipe ou Tiago/
 Eletrobras-Furnas). 19/11: 8:30-10h: palestras de convidados nacionais (Pa
 ulo S. Pompeu/UFLA\, Leandro Juen/UFPA\, Renata Ruaro/UTFPR)\, 10-10:25h: 
 coffee-break\, 10:30-12:30h: palestras convidados internacionais (Prof. Fr
 anco Teixeira-Mello/Uruguay\, Prof. Robert M. Hughes/OSU-EUA\, Dr. Philip 
 R. Kaufmann/US-EPA-EUA\, Dra. Luisa Riato/US-EPA-EUA)\, 13-14h: intervalo 
 almoço\, 14-17h: discussão transdisciplinar abordagens conservação bio
 diversidade\, água e energia\, 17-18:30h: apresentações banners com res
 ultados de projetos de estudantes\, pós-graduandos e pesquisadores partic
 ipantes. 19h: Homenagem Bob Hughes e Phil Kaufmann</p>
LAST-MODIFIED;VALUE=DATE-TIME:20240823T132513Z
URL:http://150.164.76.86:8080/cac/agenda/12996039120422994596
END:VEVENT
BEGIN:VTIMEZONE
TZID:America/Sao_Paulo
X-LIC-LOCATION:America/Sao_Paulo
BEGIN:DAYLIGHT
DTSTART;VALUE=DATE-TIME:20241020T010000
TZNAME:BRST
TZOFFSETFROM:-0300
TZOFFSETTO:-0200
END:DAYLIGHT
END:VTIMEZONE
END:VCALENDAR
