BEGIN:VCALENDAR
VERSION:2.0
PRODID:-//Plone.org//NONSGML plone.app.event//EN
X-WR-TIMEZONE:America/Sao_Paulo
BEGIN:VEVENT
SUMMARY:23ª JORNADA DE EXTENSÃO em [ Auditorio Nobre do CAD 1]
DTSTART;TZID=America/Sao_Paulo;VALUE=DATE-TIME:20240508T140000
DTEND;TZID=America/Sao_Paulo;VALUE=DATE-TIME:20240508T180000
DTSTAMP;VALUE=DATE-TIME:20260420T031411Z
UID:df4f1742a1d3449e80518caf418d5dac@150.164.76.86:8080
CREATED;VALUE=DATE-TIME:20231106T135518Z
DESCRIPTION:<p>23ª JORNADA DE EXTENSÃO - EVENTO DO CALENDÁRIO ACADÊMIC
 O</p>
LAST-MODIFIED;VALUE=DATE-TIME:20240418T145852Z
URL:http://150.164.76.86:8080/cac/agenda/12979612665894221011
END:VEVENT
BEGIN:VTIMEZONE
TZID:America/Sao_Paulo
X-LIC-LOCATION:America/Sao_Paulo
BEGIN:STANDARD
DTSTART;VALUE=DATE-TIME:20240217T230000
TZNAME:BRT
TZOFFSETFROM:-0200
TZOFFSETTO:-0300
END:STANDARD
END:VTIMEZONE
END:VCALENDAR
