BEGIN:VCALENDAR
VERSION:2.0
PRODID:-//Plone.org//NONSGML plone.app.event//EN
X-WR-TIMEZONE:America/Sao_Paulo
BEGIN:VEVENT
SUMMARY:PICADEIRRÓ em [ Arena da praça de serviços]
DTSTART;TZID=America/Sao_Paulo;VALUE=DATE-TIME:20230308T173000
DTEND;TZID=America/Sao_Paulo;VALUE=DATE-TIME:20230308T190000
DTSTAMP;VALUE=DATE-TIME:20260421T164444Z
UID:2061815d28884ae69f9d81bf708199a4@150.164.76.86:8080
CREATED;VALUE=DATE-TIME:20230301T015846Z
DESCRIPTION:<p>O PicadeRRÓ é um evento de extensão da UFMG que promove 
 gratuitamente forró para toda a comunidade da universidade. Dessa forma\,
  utilizamos uma caixa de som é uma mesa para acomodar os equipamentos nec
 essários para a realização do evento (computador\, microfone). OBS: Equ
 ipamentos próprios. Não haverá empréstimo\, nem atendimento CAC\, conf
 orme já informado.</p>
LAST-MODIFIED;VALUE=DATE-TIME:20230301T162758Z
URL:http://150.164.76.86:8080/cac/agenda/12967316753524414451
END:VEVENT
BEGIN:VTIMEZONE
TZID:America/Sao_Paulo
X-LIC-LOCATION:America/Sao_Paulo
BEGIN:STANDARD
DTSTART;VALUE=DATE-TIME:20230225T230000
TZNAME:BRT
TZOFFSETFROM:-0200
TZOFFSETTO:-0300
END:STANDARD
END:VTIMEZONE
END:VCALENDAR
