BEGIN:VCALENDAR
VERSION:2.0
PRODID:-//Plone.org//NONSGML plone.app.event//EN
X-WR-TIMEZONE:America/Sao_Paulo
BEGIN:VEVENT
SUMMARY:FERIADO PAIXÃO DE CRISTO em [ Auditorio da Reitoria Saguao da Rei
 toria Gramado da Reitoria Arena da praça de serviços Entorno da Praca de
  Servicos Auditorio Nobre do CAD 1 Auditorio 1A do CAD 1 Auditorio 2A do C
 AD 1 Auditorio A102 do Cad 2 Auditorio A104 do Cad 2 Auditório B101/102 d
 o CAD 3 Auditório B106 do CAD3 Auditório B107 do CAD3 Auditório B301 do
  CAD 3 Auditório B302 do CAD 3 Auditório B306 do CAD3 Outros espacos]
DTSTART;TZID=America/Sao_Paulo;VALUE=DATE-TIME:20240329T060000
DTEND;TZID=America/Sao_Paulo;VALUE=DATE-TIME:20240329T220000
DTSTAMP;VALUE=DATE-TIME:20260420T063442Z
UID:1eeccc85c5384edcafe4ba93ffc23dde@150.164.76.86:8080
CREATED;VALUE=DATE-TIME:20231106T134153Z
DESCRIPTION:<p>FERIADO PAIXÃO DE CRISTO</p>
LAST-MODIFIED;VALUE=DATE-TIME:20231106T134221Z
URL:http://150.164.76.86:8080/cac/agenda/12965179878437399172
END:VEVENT
BEGIN:VTIMEZONE
TZID:America/Sao_Paulo
X-LIC-LOCATION:America/Sao_Paulo
BEGIN:STANDARD
DTSTART;VALUE=DATE-TIME:20240217T230000
TZNAME:BRT
TZOFFSETFROM:-0200
TZOFFSETTO:-0300
END:STANDARD
END:VTIMEZONE
END:VCALENDAR
