BEGIN:VCALENDAR
VERSION:2.0
PRODID:-//Plone.org//NONSGML plone.app.event//EN
X-WR-TIMEZONE:America/Sao_Paulo
BEGIN:VEVENT
SUMMARY:Treinamento para setores de Compras da UFMG em [ Auditorio A104 do
  Cad 2]
DTSTART;TZID=America/Sao_Paulo;VALUE=DATE-TIME:20220929T130000
DTEND;TZID=America/Sao_Paulo;VALUE=DATE-TIME:20220929T170000
DTSTAMP;VALUE=DATE-TIME:20260422T012355Z
UID:7436412c9291425aa123133dfd28fcf5@150.164.76.86:8080
CREATED;VALUE=DATE-TIME:20220914T150404Z
DESCRIPTION:Audiovisual básico
LAST-MODIFIED;VALUE=DATE-TIME:20220914T150515Z
URL:http://150.164.76.86:8080/cac/agenda/12962921037892132449
END:VEVENT
BEGIN:VTIMEZONE
TZID:America/Sao_Paulo
X-LIC-LOCATION:America/Sao_Paulo
BEGIN:STANDARD
DTSTART;VALUE=DATE-TIME:20220219T230000
TZNAME:BRT
TZOFFSETFROM:-0200
TZOFFSETTO:-0300
END:STANDARD
END:VTIMEZONE
END:VCALENDAR
