BEGIN:VCALENDAR
VERSION:2.0
PRODID:-//Plone.org//NONSGML plone.app.event//EN
X-WR-TIMEZONE:America/Sao_Paulo
BEGIN:VEVENT
SUMMARY:Medalha de Honra UFMG 2024 em [ Outros espacos]
DTSTART;TZID=America/Sao_Paulo;VALUE=DATE-TIME:20241025T090000
DTEND;TZID=America/Sao_Paulo;VALUE=DATE-TIME:20241025T120000
DTSTAMP;VALUE=DATE-TIME:20260419T193238Z
UID:4af65505e861426a8cc5fdb0446a075b@150.164.76.86:8080
CREATED;VALUE=DATE-TIME:20241011T150850Z
DESCRIPTION:<p><span>Medalha de Honra UFMG 2024</span></p>
LAST-MODIFIED;VALUE=DATE-TIME:20241011T150915Z
URL:http://150.164.76.86:8080/cac/agenda/12957824755877726659
END:VEVENT
BEGIN:VTIMEZONE
TZID:America/Sao_Paulo
X-LIC-LOCATION:America/Sao_Paulo
BEGIN:DAYLIGHT
DTSTART;VALUE=DATE-TIME:20241020T010000
TZNAME:BRST
TZOFFSETFROM:-0300
TZOFFSETTO:-0200
END:DAYLIGHT
END:VTIMEZONE
END:VCALENDAR
