BEGIN:VCALENDAR
VERSION:2.0
PRODID:-//Plone.org//NONSGML plone.app.event//EN
X-WR-TIMEZONE:America/Sao_Paulo
BEGIN:VEVENT
SUMMARY:Colação de grau dos alunos dos cursos técnicos do Colégio Téc
 nico em [ Auditorio Nobre do CAD 1]
DTSTART;TZID=America/Sao_Paulo;VALUE=DATE-TIME:20230301T193000
DTEND;TZID=America/Sao_Paulo;VALUE=DATE-TIME:20230301T220000
DTSTAMP;VALUE=DATE-TIME:20260421T145855Z
UID:dd033121b4c546129741b9023e331a99@150.164.76.86:8080
CREATED;VALUE=DATE-TIME:20230206T165740Z
DESCRIPTION:<p>- Previsão de público: 500 pessoas - Responsável pelo ev
 ento: DM Universitaria - Descrição do evento ( informe os equipamentos\,
  os serviços necessários e a programação do evento): - Equipamentos ne
 cessários: equipamento de som completo\, mesas\, serviço de limpeza\, se
 rviço de recepção\, entre outros. Programação do evento: - Composiç
 ão da mesa - Abertura da Sessão - Entrada da turma - Execução da turma
  - Execução do hino - Discurso dos oradores - Entrega de presente aos ho
 menageados - Entrega dos diplomas simbólicos - Discurso da Diretoria - Sa
 ída dos alunos - Saída do público</p>
LAST-MODIFIED;VALUE=DATE-TIME:20230206T181516Z
URL:http://150.164.76.86:8080/cac/agenda/12945543400480277480
END:VEVENT
BEGIN:VTIMEZONE
TZID:America/Sao_Paulo
X-LIC-LOCATION:America/Sao_Paulo
BEGIN:STANDARD
DTSTART;VALUE=DATE-TIME:20230225T230000
TZNAME:BRT
TZOFFSETFROM:-0200
TZOFFSETTO:-0300
END:STANDARD
END:VTIMEZONE
END:VCALENDAR
