BEGIN:VCALENDAR
VERSION:2.0
PRODID:-//Plone.org//NONSGML plone.app.event//EN
X-WR-TIMEZONE:America/Sao_Paulo
BEGIN:VEVENT
SUMMARY:ASSEMBLEIA DO SINDIFES em [ Auditorio A104 do Cad 2]
DTSTART;TZID=America/Sao_Paulo;VALUE=DATE-TIME:20241016T080000
DTEND;TZID=America/Sao_Paulo;VALUE=DATE-TIME:20241016T130000
DTSTAMP;VALUE=DATE-TIME:20260419T193323Z
UID:c9d4bf65b3404952b71eebcae787fe98@150.164.76.86:8080
CREATED;VALUE=DATE-TIME:20241008T184324Z
DESCRIPTION:<p>ASSEMBLEIA DO SINDIFES</p>
LAST-MODIFIED;VALUE=DATE-TIME:20241009T135835Z
URL:http://150.164.76.86:8080/cac/agenda/12945233626362849034
END:VEVENT
BEGIN:VTIMEZONE
TZID:America/Sao_Paulo
X-LIC-LOCATION:America/Sao_Paulo
BEGIN:STANDARD
DTSTART;VALUE=DATE-TIME:20240217T230000
TZNAME:BRT
TZOFFSETFROM:-0200
TZOFFSETTO:-0300
END:STANDARD
END:VTIMEZONE
END:VCALENDAR
