BEGIN:VCALENDAR
VERSION:2.0
PRODID:-//Plone.org//NONSGML plone.app.event//EN
X-WR-TIMEZONE:America/Sao_Paulo
BEGIN:VEVENT
SUMMARY:Assembleia com os Aposentados do SINDIFES em [ Auditorio A102 do C
 ad 2]
DTSTART;TZID=America/Sao_Paulo;VALUE=DATE-TIME:20250521T080000
DTEND;TZID=America/Sao_Paulo;VALUE=DATE-TIME:20250521T130000
DTSTAMP;VALUE=DATE-TIME:20260419T091427Z
UID:7e081e7e1d254d069471281109e1684e@150.164.76.86:8080
CREATED;VALUE=DATE-TIME:20250430T173119Z
DESCRIPTION:<p>Assembleia com os Aposentados do SINDIFES</p>
LAST-MODIFIED;VALUE=DATE-TIME:20250501T152707Z
URL:http://150.164.76.86:8080/cac/agenda/12928317240528845929
END:VEVENT
BEGIN:VTIMEZONE
TZID:America/Sao_Paulo
X-LIC-LOCATION:America/Sao_Paulo
BEGIN:STANDARD
DTSTART;VALUE=DATE-TIME:20250215T230000
TZNAME:BRT
TZOFFSETFROM:-0200
TZOFFSETTO:-0300
END:STANDARD
END:VTIMEZONE
END:VCALENDAR
