BEGIN:VCALENDAR
VERSION:2.0
PRODID:-//Plone.org//NONSGML plone.app.event//EN
X-WR-TIMEZONE:America/Sao_Paulo
BEGIN:VEVENT
SUMMARY:Primeiro Curso de Verão em Bioquímica e Imunologia (I CVBI) em [
  Auditório B101/102 do CAD 3]
DTSTART;TZID=America/Sao_Paulo;VALUE=DATE-TIME:20240219T070000
DTEND;TZID=America/Sao_Paulo;VALUE=DATE-TIME:20240223T200000
DTSTAMP;VALUE=DATE-TIME:20260420T080826Z
UID:9499c25787fa4cc19f00dbf6542c1b90@150.164.76.86:8080
CREATED;VALUE=DATE-TIME:20230818T194357Z
DESCRIPTION:<p>Pré-reserva condicionada ao calendário acadêmico de 2024
 </p>
LAST-MODIFIED;VALUE=DATE-TIME:20240207T204118Z
URL:http://150.164.76.86:8080/cac/agenda/12926625426423125555
END:VEVENT
BEGIN:VTIMEZONE
TZID:America/Sao_Paulo
X-LIC-LOCATION:America/Sao_Paulo
BEGIN:STANDARD
DTSTART;VALUE=DATE-TIME:20240217T230000
TZNAME:BRT
TZOFFSETFROM:-0200
TZOFFSETTO:-0300
END:STANDARD
END:VTIMEZONE
END:VCALENDAR
