BEGIN:VCALENDAR
VERSION:2.0
PRODID:-//Plone.org//NONSGML plone.app.event//EN
X-WR-TIMEZONE:America/Sao_Paulo
BEGIN:VEVENT
SUMMARY:Gravação Coral de Aposentados da Faculdade de Medicina em [ Audi
 torio da Reitoria]
DTSTART;TZID=America/Sao_Paulo;VALUE=DATE-TIME:20231127T070000
DTEND;TZID=America/Sao_Paulo;VALUE=DATE-TIME:20231128T130000
DTSTAMP;VALUE=DATE-TIME:20260420T130618Z
UID:04f57a996ba14c69a5094188b787d20d@150.164.76.86:8080
CREATED;VALUE=DATE-TIME:20231031T152040Z
DESCRIPTION:<p>Gravação de trilha sonora para o Coral Ciranda de Minas\,
  de servidores aposentados da Faculdade de Medicina UFMG</p>
LAST-MODIFIED;VALUE=DATE-TIME:20231031T152445Z
URL:http://150.164.76.86:8080/cac/agenda/12922633240949826759
END:VEVENT
BEGIN:VTIMEZONE
TZID:America/Sao_Paulo
X-LIC-LOCATION:America/Sao_Paulo
BEGIN:DAYLIGHT
DTSTART;VALUE=DATE-TIME:20231015T010000
TZNAME:BRST
TZOFFSETFROM:-0300
TZOFFSETTO:-0200
END:DAYLIGHT
END:VTIMEZONE
END:VCALENDAR
