BEGIN:VCALENDAR
VERSION:2.0
PRODID:-//Plone.org//NONSGML plone.app.event//EN
X-WR-TIMEZONE:America/Sao_Paulo
BEGIN:VEVENT
SUMMARY:TROCA DE GESTÃO EMAS Jr. CONSULTORIA em [ Auditorio A104 do Cad 2
 ]
DTSTART;TZID=America/Sao_Paulo;VALUE=DATE-TIME:20231215T170000
DTEND;TZID=America/Sao_Paulo;VALUE=DATE-TIME:20231215T220000
DTSTAMP;VALUE=DATE-TIME:20260420T114901Z
UID:e1cda513e08e48a7b5cef90931dc6036@150.164.76.86:8080
CREATED;VALUE=DATE-TIME:20231124T201349Z
DESCRIPTION:<p>Troca De Gestão da EMAS Jr. Consultoria Somos uma empresa 
 da escola de engenharia mas nosso auditorio ja está reservado. As unicas 
 coisas que precisamos são de projetor e microfones. Por favor\, aceitem a
  solicitação porque nao tem como trocar de data</p>
LAST-MODIFIED;VALUE=DATE-TIME:20231129T194132Z
URL:http://150.164.76.86:8080/cac/agenda/12920315292966351201
END:VEVENT
BEGIN:VTIMEZONE
TZID:America/Sao_Paulo
X-LIC-LOCATION:America/Sao_Paulo
BEGIN:DAYLIGHT
DTSTART;VALUE=DATE-TIME:20231015T010000
TZNAME:BRST
TZOFFSETFROM:-0300
TZOFFSETTO:-0200
END:DAYLIGHT
END:VTIMEZONE
END:VCALENDAR
