BEGIN:VCALENDAR
VERSION:2.0
PRODID:-//Plone.org//NONSGML plone.app.event//EN
X-WR-TIMEZONE:America/Sao_Paulo
BEGIN:VEVENT
SUMMARY:Exposição e Roda de Conversa: O que eu\, você\, nós podemos fa
 zer para efetivar a inclusão de profissionais negros(as) na UFMG? em [ En
 torno da Praca de Servicos Arena da praça de serviços]
DTSTART;TZID=America/Sao_Paulo;VALUE=DATE-TIME:20241118T100000
DTEND;TZID=America/Sao_Paulo;VALUE=DATE-TIME:20241119T170000
DTSTAMP;VALUE=DATE-TIME:20260419T175949Z
UID:486ad0691e0048b883099a401e568640@150.164.76.86:8080
CREATED;VALUE=DATE-TIME:20241007T175822Z
DESCRIPTION:<p>Promover\, por meio de frase/citações em cartazes\, uma r
 eflexão ampla e coletiva sobre os desafios e dilemas relacionados à incl
 usão de profissionais negros(as) na UFMG\, envolvendo a participação at
 iva de todos (as) filiados(as)\, independentemente de cor ou cargo (TNS)\,
  e buscando soluções e caminhos para a plena efetivação da inserção 
 destes profissionais. A Lei nº 12.990/2014\, que reserva 20% das vagas de
  concursos públicos para candidatos negros\, pode ser uma questão a ser 
 abordada para a atividade. A pergunta que deve ser respondida (e cujos tex
 tos serão colocados nos cartazes) é: *“O que eu\, você\, nós podemos
  fazer para efetivar a inclusão de profissionais negros(as) na UFMG?” O
 s cartazes serão no formato A3 (42 x 29\,7 cm) e serão colocados na Pra
 ça de Serviços\, no campus Pampulha\, bem como serão distribuídos para
  as Unidades / Órgãos da UFMG. Para a exposição dos cartazers\, precis
 aremos utilizar paineis de madeira da CAC.</p>\n<p><span>Roda de conversa 
 sobre a "O que eu\, você\, nós podemos fazer para efetivar a inclusão d
 e profissionais negros(as) na UFMG?". A conversa proposta contextualizará
  a exposição que obetiva promover\, por meio de frase/citações em cart
 azes\, uma reflexão ampla e coletiva sobre os desafios e dilemas relacion
 ados à inclusão de profissionais negros(as) na UFMG\, envolvendo a parti
 cipação ativa de todos (as) filiados(as)\, independentemente de cor ou c
 argo (TNS)\, e buscando soluções e caminhos para a plena efetivação da
  inserção destes profissionais. Precisamos da instalação de uma caixa 
 de som e de um microfone para a atividade.</span></p>
LAST-MODIFIED;VALUE=DATE-TIME:20241008T124915Z
URL:http://150.164.76.86:8080/cac/agenda/12911390273782216781
END:VEVENT
BEGIN:VTIMEZONE
TZID:America/Sao_Paulo
X-LIC-LOCATION:America/Sao_Paulo
BEGIN:DAYLIGHT
DTSTART;VALUE=DATE-TIME:20241020T010000
TZNAME:BRST
TZOFFSETFROM:-0300
TZOFFSETTO:-0200
END:DAYLIGHT
END:VTIMEZONE
END:VCALENDAR
