BEGIN:VCALENDAR
VERSION:2.0
PRODID:-//Plone.org//NONSGML plone.app.event//EN
X-WR-TIMEZONE:America/Sao_Paulo
BEGIN:VEVENT
SUMMARY:Psicanálise e luta antimanicomial em [ Auditorio A102 do Cad 2]
DTSTART;TZID=America/Sao_Paulo;VALUE=DATE-TIME:20230519T080000
DTEND;TZID=America/Sao_Paulo;VALUE=DATE-TIME:20230519T200000
DTSTAMP;VALUE=DATE-TIME:20260421T133932Z
UID:0ebe64cb77944378b0cccf4f3e82105d@150.164.76.86:8080
CREATED;VALUE=DATE-TIME:20230420T181702Z
DESCRIPTION:<p>O evento será composto por diversas mesas e palestras. Nã
 o precisaremos de suporte audiovisual. Programação: (Título) Psicanáli
 se e Luta Antimanicomial 19 de maio de 2023 (Local. Auditório do CAD 2.) 
 Resumo: A psicanálise faz parte da tecitura da luta antimanicomial. Há u
 ma posição irredutível da orientação lacaniana em direção ao real a
 ntimanicomial\, essa luta ainda está em curso\, é uma luta que se refaz 
 a cada encontro. 8h30 às 10h Abertura - Psicanálise e luta antimanicomia
 l Fernanda Otoni\, Matheus Abade\, Isabella Diniz. 10h às 11h30 Luta anti
 manicomial em Belo Horizonte Musso Greco\, Andrea Guerra\, Victor Sidartha
  (Capsi) 11h30 às 13h30 Intervalo de almoço 13h30 às 15h30 Invenção d
 e uma prática - Instituições Helenice de Castro (EBP/CERSAM)\, Priscill
 a (SRT)\, João Salgado (Freud Cidadão)\, Gabriela Mansur (PAI-PJ). 15h30
  às 17h Conferência de encerramento - - Psicanálise e Saúde Mental Ana
  Marta Lobosque e Antônio Teixeira. Comentador: Gilson Iannini 17h às 17
 h30 Confraternização (Lanche)</p>
LAST-MODIFIED;VALUE=DATE-TIME:20230424T132805Z
URL:http://150.164.76.86:8080/cac/agenda/12892097804922120611
END:VEVENT
BEGIN:VTIMEZONE
TZID:America/Sao_Paulo
X-LIC-LOCATION:America/Sao_Paulo
BEGIN:STANDARD
DTSTART;VALUE=DATE-TIME:20230225T230000
TZNAME:BRT
TZOFFSETFROM:-0200
TZOFFSETTO:-0300
END:STANDARD
END:VTIMEZONE
END:VCALENDAR
