BEGIN:VCALENDAR
VERSION:2.0
PRODID:-//Plone.org//NONSGML plone.app.event//EN
X-WR-TIMEZONE:America/Sao_Paulo
BEGIN:VEVENT
SUMMARY:Assembleia Sindical Estatutária em [ Auditorio A102 do Cad 2]
DTSTART;TZID=America/Sao_Paulo;VALUE=DATE-TIME:20240313T090000
DTEND;TZID=America/Sao_Paulo;VALUE=DATE-TIME:20240313T130000
DTSTAMP;VALUE=DATE-TIME:20260420T063057Z
UID:190d53a2967e4180b7d493590e7cf854@150.164.76.86:8080
CREATED;VALUE=DATE-TIME:20240216T131328Z
DESCRIPTION:<p>Assembleia Sindical Estatutária</p>
LAST-MODIFIED;VALUE=DATE-TIME:20240220T133621Z
URL:http://150.164.76.86:8080/cac/agenda/12855201801375101745
END:VEVENT
BEGIN:VTIMEZONE
TZID:America/Sao_Paulo
X-LIC-LOCATION:America/Sao_Paulo
BEGIN:STANDARD
DTSTART;VALUE=DATE-TIME:20240217T230000
TZNAME:BRT
TZOFFSETFROM:-0200
TZOFFSETTO:-0300
END:STANDARD
END:VTIMEZONE
END:VCALENDAR
