BEGIN:VCALENDAR
VERSION:2.0
PRODID:-//Plone.org//NONSGML plone.app.event//EN
X-WR-TIMEZONE:America/Sao_Paulo
BEGIN:VEVENT
SUMMARY:Reunião FORIPES em [ Outros espacos]
DTSTART;TZID=America/Sao_Paulo;VALUE=DATE-TIME:20220921T093000
DTEND;TZID=America/Sao_Paulo;VALUE=DATE-TIME:20220921T120000
DTSTAMP;VALUE=DATE-TIME:20260422T012539Z
UID:c2f8011590d2463982302c8409ae9af7@150.164.76.86:8080
CREATED;VALUE=DATE-TIME:20220919T152849Z
DESCRIPTION:<p>Reunião FORIPES</p>
LAST-MODIFIED;VALUE=DATE-TIME:20220919T152900Z
URL:http://150.164.76.86:8080/cac/agenda/12852238703020644119
END:VEVENT
BEGIN:VTIMEZONE
TZID:America/Sao_Paulo
X-LIC-LOCATION:America/Sao_Paulo
BEGIN:STANDARD
DTSTART;VALUE=DATE-TIME:20220219T230000
TZNAME:BRT
TZOFFSETFROM:-0200
TZOFFSETTO:-0300
END:STANDARD
END:VTIMEZONE
END:VCALENDAR
