BEGIN:VCALENDAR
VERSION:2.0
PRODID:-//Plone.org//NONSGML plone.app.event//EN
X-WR-TIMEZONE:America/Sao_Paulo
BEGIN:VEVENT
SUMMARY:Reunião de Equipe da Reitora em [ Outros espacos]
DTSTART;TZID=America/Sao_Paulo;VALUE=DATE-TIME:20231110T093000
DTEND;TZID=America/Sao_Paulo;VALUE=DATE-TIME:20231110T123000
DTSTAMP;VALUE=DATE-TIME:20260420T132007Z
UID:aab629da28704bfb8affa566a77b6f22@150.164.76.86:8080
CREATED;VALUE=DATE-TIME:20231016T161816Z
DESCRIPTION:<p>Reunião de Equipe da Reitora</p>
LAST-MODIFIED;VALUE=DATE-TIME:20231016T161832Z
URL:http://150.164.76.86:8080/cac/agenda/12850799080217699904
END:VEVENT
BEGIN:VTIMEZONE
TZID:America/Sao_Paulo
X-LIC-LOCATION:America/Sao_Paulo
BEGIN:DAYLIGHT
DTSTART;VALUE=DATE-TIME:20231015T010000
TZNAME:BRST
TZOFFSETFROM:-0300
TZOFFSETTO:-0200
END:DAYLIGHT
END:VTIMEZONE
END:VCALENDAR
